BEGIN:VCALENDAR
VERSION:2.0
PRODID:-//Kinshow Promotions - ECPv6.15.20//NONSGML v1.0//EN
CALSCALE:GREGORIAN
METHOD:PUBLISH
X-WR-CALNAME:Kinshow Promotions
X-ORIGINAL-URL:https://kinshowpromotions.co.uk
X-WR-CALDESC:Events for Kinshow Promotions
REFRESH-INTERVAL;VALUE=DURATION:PT1H
X-Robots-Tag:noindex
X-PUBLISHED-TTL:PT1H
BEGIN:VTIMEZONE
TZID:Europe/London
BEGIN:DAYLIGHT
TZOFFSETFROM:+0000
TZOFFSETTO:+0100
TZNAME:BST
DTSTART:20250330T010000
END:DAYLIGHT
BEGIN:STANDARD
TZOFFSETFROM:+0100
TZOFFSETTO:+0000
TZNAME:GMT
DTSTART:20251026T010000
END:STANDARD
BEGIN:DAYLIGHT
TZOFFSETFROM:+0000
TZOFFSETTO:+0100
TZNAME:BST
DTSTART:20260329T010000
END:DAYLIGHT
BEGIN:STANDARD
TZOFFSETFROM:+0100
TZOFFSETTO:+0000
TZNAME:GMT
DTSTART:20261025T010000
END:STANDARD
BEGIN:DAYLIGHT
TZOFFSETFROM:+0000
TZOFFSETTO:+0100
TZNAME:BST
DTSTART:20270328T010000
END:DAYLIGHT
BEGIN:STANDARD
TZOFFSETFROM:+0100
TZOFFSETTO:+0000
TZNAME:GMT
DTSTART:20271031T010000
END:STANDARD
END:VTIMEZONE
BEGIN:VEVENT
DTSTART;TZID=Europe/London:20260424T200000
DTEND;TZID=Europe/London:20260425T020000
DTSTAMP:20260424T054039
CREATED:20260416T195949Z
LAST-MODIFIED:20260416T210518Z
UID:1573-1777060800-1777082400@kinshowpromotions.co.uk
SUMMARY:All Night Groove Bolton – Live Band Music Night with Akinslavia
DESCRIPTION:Bolton\, are you ready for a night that doesn’t stop? 🎶 \nExperience nonstop music\, energy\, and vibes with Akinslavia Live Band bringing the groove ALL NIGHT long. \n📅 Friday\, April 24\n⏰ 8PM till late\n📍 Vibez Bar & Restaurant \nWhat to expect:\n🎤 Live band performance\n🍾 Premium drinks & vibes\n💃🏽 Nonstop groove till morning \nIf you miss this\, you’ll hear about it later 😏 \nPull up with your people and let’s make it a night to remember. \n 
URL:https://kinshowpromotions.co.uk/event/all-night-groove-bolton-live-band-music-night-with-akinslavia/
LOCATION:Vibez Bar & Restaurant\, 116–118 Bradshawgate\, Bolton BL2 1AY\, BL2 1AY\, United Kingdom
CATEGORIES:2026 Events,April 2026 Events
ATTACH;FMTTYPE=image/jpeg:https://kinshowpromotions.co.uk/wp-content/uploads/2026/04/IMG_7882.jpeg
ORGANIZER;CN="Kinshow Promotions & Management":MAILTO:thebrandkinshow@gmail.com
END:VEVENT
END:VCALENDAR