BEGIN:VCALENDAR
VERSION:2.0
PRODID:-//Kinshow Promotions - ECPv6.15.20//NONSGML v1.0//EN
CALSCALE:GREGORIAN
METHOD:PUBLISH
X-ORIGINAL-URL:https://kinshowpromotions.co.uk
X-WR-CALDESC:Events for Kinshow Promotions
REFRESH-INTERVAL;VALUE=DURATION:PT1H
X-Robots-Tag:noindex
X-PUBLISHED-TTL:PT1H
BEGIN:VTIMEZONE
TZID:Europe/London
BEGIN:DAYLIGHT
TZOFFSETFROM:+0000
TZOFFSETTO:+0100
TZNAME:BST
DTSTART:20230326T010000
END:DAYLIGHT
BEGIN:STANDARD
TZOFFSETFROM:+0100
TZOFFSETTO:+0000
TZNAME:GMT
DTSTART:20231029T010000
END:STANDARD
BEGIN:DAYLIGHT
TZOFFSETFROM:+0000
TZOFFSETTO:+0100
TZNAME:BST
DTSTART:20240331T010000
END:DAYLIGHT
BEGIN:STANDARD
TZOFFSETFROM:+0100
TZOFFSETTO:+0000
TZNAME:GMT
DTSTART:20241027T010000
END:STANDARD
BEGIN:DAYLIGHT
TZOFFSETFROM:+0000
TZOFFSETTO:+0100
TZNAME:BST
DTSTART:20250330T010000
END:DAYLIGHT
BEGIN:STANDARD
TZOFFSETFROM:+0100
TZOFFSETTO:+0000
TZNAME:GMT
DTSTART:20251026T010000
END:STANDARD
END:VTIMEZONE
BEGIN:VEVENT
DTSTART;TZID=Europe/London:20240609T020000
DTEND;TZID=Europe/London:20240809T080000
DTSTAMP:20260420T231436
CREATED:20240809T064923Z
LAST-MODIFIED:20250225T011847Z
UID:599-1717898400-1723190400@kinshowpromotions.co.uk
SUMMARY:Yeye Oganla live in Manchester
DESCRIPTION:Yeye Oganla live in Manchester @ Spices African Restaurant on the 8th June\, 2024.
URL:https://kinshowpromotions.co.uk/event/yeye-oganla-live-in-manchester/
LOCATION:Spices African Restaurant & Bar\, 254 Moston Lane\, Manchester\, London\, M40 9WF\, United Kingdom
CATEGORIES:2024 Events,June 2024 Events
ATTACH;FMTTYPE=image/jpeg:https://kinshowpromotions.co.uk/wp-content/uploads/2024/08/IMG-20240518-WA0006.jpg
ORGANIZER;CN="Kinshow Promotions & Management":MAILTO:thebrandkinshow@gmail.com
END:VEVENT
BEGIN:VEVENT
DTSTART;TZID=Europe/London:20240609T040000
DTEND;TZID=Europe/London:20240609T073000
DTSTAMP:20260420T231436
CREATED:20240809T042346Z
LAST-MODIFIED:20250225T012154Z
UID:585-1717905600-1717918200@kinshowpromotions.co.uk
SUMMARY:Mrs Bongo Birthday Bash + Friday Jamz
DESCRIPTION:Mrs Bongo Birthday Bash + Friday Jamz @ Bongo Master Restaurant
URL:https://kinshowpromotions.co.uk/event/mrs-bongo-birthday-bash-friday-jamz/
LOCATION:Bongo Master Resturant & Bar\, 1 cherry tree centre half moon\, Huddersfield\, HD1 2JD\, United Kingdom
CATEGORIES:2024 Events
ATTACH;FMTTYPE=image/jpeg:https://kinshowpromotions.co.uk/wp-content/uploads/2024/08/IMG-20240604-WA0011.jpg
ORGANIZER;CN="Kinshow Promotions & Management":MAILTO:thebrandkinshow@gmail.com
END:VEVENT
BEGIN:VEVENT
DTSTART;TZID=Europe/London:20240616T020000
DTEND;TZID=Europe/London:20240616T080000
DTSTAMP:20260420T231436
CREATED:20240809T043046Z
LAST-MODIFIED:20250225T012627Z
UID:590-1718503200-1718524800@kinshowpromotions.co.uk
SUMMARY:Ileya Festival with EU King Semo Winter
DESCRIPTION:Ileya Festival with EU King Semo Winter
URL:https://kinshowpromotions.co.uk/event/ileya-festival-with-eu-king-semo-winter/
LOCATION:Spices African Restaurant & Bar\, 254 Moston Lane\, Manchester\, London\, M40 9WF\, United Kingdom
CATEGORIES:2024 Events
ATTACH;FMTTYPE=image/jpeg:https://kinshowpromotions.co.uk/wp-content/uploads/2024/08/IMG-20240615-WA0000.jpg
ORGANIZER;CN="Kinshow Promotions & Management":MAILTO:thebrandkinshow@gmail.com
END:VEVENT
BEGIN:VEVENT
DTSTART;TZID=Europe/London:20240623T030000
DTEND;TZID=Europe/London:20240623T073000
DTSTAMP:20260420T231436
CREATED:20240809T070654Z
LAST-MODIFIED:20250225T012848Z
UID:618-1719111600-1719127800@kinshowpromotions.co.uk
SUMMARY:Actress Oyita Birthday Bash
DESCRIPTION:Actress Oyita Birthday Bash.\nMusic By: Akinslavia & The Gang \nDate\, Time: 22nd June\, 2024. 7pm
URL:https://kinshowpromotions.co.uk/event/actress-oyita-birthday-bash/
LOCATION:Spices African Restaurant & Bar\, 254 Moston Lane\, Manchester\, London\, M40 9WF\, United Kingdom
CATEGORIES:2024 Events
ATTACH;FMTTYPE=image/jpeg:https://kinshowpromotions.co.uk/wp-content/uploads/2024/08/IMG-20240620-WA0009.jpg
ORGANIZER;CN="Kinshow Promotions & Management":MAILTO:thebrandkinshow@gmail.com
END:VEVENT
END:VCALENDAR