BEGIN:VCALENDAR
VERSION:2.0
PRODID:-//Kinshow Promotions - ECPv6.15.20//NONSGML v1.0//EN
CALSCALE:GREGORIAN
METHOD:PUBLISH
X-WR-CALNAME:Kinshow Promotions
X-ORIGINAL-URL:https://kinshowpromotions.co.uk
X-WR-CALDESC:Events for Kinshow Promotions
REFRESH-INTERVAL;VALUE=DURATION:PT1H
X-Robots-Tag:noindex
X-PUBLISHED-TTL:PT1H
BEGIN:VTIMEZONE
TZID:Europe/London
BEGIN:DAYLIGHT
TZOFFSETFROM:+0000
TZOFFSETTO:+0100
TZNAME:BST
DTSTART:20250330T010000
END:DAYLIGHT
BEGIN:STANDARD
TZOFFSETFROM:+0100
TZOFFSETTO:+0000
TZNAME:GMT
DTSTART:20251026T010000
END:STANDARD
BEGIN:DAYLIGHT
TZOFFSETFROM:+0000
TZOFFSETTO:+0100
TZNAME:BST
DTSTART:20260329T010000
END:DAYLIGHT
BEGIN:STANDARD
TZOFFSETFROM:+0100
TZOFFSETTO:+0000
TZNAME:GMT
DTSTART:20261025T010000
END:STANDARD
BEGIN:DAYLIGHT
TZOFFSETFROM:+0000
TZOFFSETTO:+0100
TZNAME:BST
DTSTART:20270328T010000
END:DAYLIGHT
BEGIN:STANDARD
TZOFFSETFROM:+0100
TZOFFSETTO:+0000
TZNAME:GMT
DTSTART:20271031T010000
END:STANDARD
END:VTIMEZONE
BEGIN:VEVENT
DTSTART;TZID=Europe/London:20260502T200000
DTEND;TZID=Europe/London:20260503T020000
DTSTAMP:20260423T035231
CREATED:20260423T024843Z
LAST-MODIFIED:20260423T025031Z
UID:1586-1777752000-1777773600@kinshowpromotions.co.uk
SUMMARY:✨ OWANBE NIGHT – MANCHESTER ✨
DESCRIPTION:Step into royalty. Step into culture. Step into vibes 👑🔥 \nJoin Akinslavia Live Band for a night of rich African sounds\, live performance\, and premium nightlife experience. \n📅 Saturday\, May 2nd\n⏰ 8PM till late\n📍 Shanky’s Restaurant\, Bar & Lounge \nExpect:\n🎤 Live band excellence\n🥂 Premium drinks & fine dining\n💃🏽 Classy Afro-cultural atmosphere \nManchester\, this is not just a night out\, it’s an Owanbe experience. \n🚨 Limited seating. Early arrival strongly advised. \nShare to your squad & don’t miss this.
URL:https://kinshowpromotions.co.uk/event/%e2%9c%a8-owanbe-night-manchester-%e2%9c%a8/
LOCATION:Shanky’s Restaurant Bar & Lounge\, 476-478 Oldham Road\,\, Failsworth\, Manchester\, M35 OFH\, United Kingdom
CATEGORIES:2026 Events,May 2026 Events
ATTACH;FMTTYPE=image/jpeg:https://kinshowpromotions.co.uk/wp-content/uploads/2026/04/IMG_8165.jpeg
ORGANIZER;CN="Kinshow Promotions & Management":MAILTO:thebrandkinshow@gmail.com
END:VEVENT
BEGIN:VEVENT
DTSTART;TZID=Europe/London:20260523T200000
DTEND;TZID=Europe/London:20260526T000000
DTSTAMP:20260423T035232
CREATED:20260407T055005Z
LAST-MODIFIED:20260407T082032Z
UID:1567-1779566400-1779753600@kinshowpromotions.co.uk
SUMMARY:Apala Festival With Wasiu Haruna Ishola
DESCRIPTION:London\, Manchester & Walsall\, are you ready for a one of its kind festival? 3 stages\, 1 Apala Maestro. From the 23rd of May to 25th of May\, Apala rhythm will be served back to back by the best of the best\, Wasiu Haruna Ishola\, Lagunja 1. \n \nMay 23rd London Venue. 8pm \n  \n \nMay 24th Manchester Venue. 8pm \n \nMay 25th Walsall Venue. 8pm \nThis events is packaged and brought to you by Kinshow Promotions & Management.
URL:https://kinshowpromotions.co.uk/event/apala-festival-with-wasiu-haruna-ishola/
LOCATION:Manchester
CATEGORIES:2026 Events,May 2026 Events
ATTACH;FMTTYPE=image/jpeg:https://kinshowpromotions.co.uk/wp-content/uploads/2026/04/KP-event-Flyer-A4.jpg
ORGANIZER;CN="Kinshow Promotions & Management":MAILTO:thebrandkinshow@gmail.com
END:VEVENT
END:VCALENDAR