BEGIN:VCALENDAR
VERSION:2.0
PRODID:-//Kinshow Promotions - ECPv6.15.20//NONSGML v1.0//EN
CALSCALE:GREGORIAN
METHOD:PUBLISH
X-ORIGINAL-URL:https://kinshowpromotions.co.uk
X-WR-CALDESC:Events for Kinshow Promotions
REFRESH-INTERVAL;VALUE=DURATION:PT1H
X-Robots-Tag:noindex
X-PUBLISHED-TTL:PT1H
BEGIN:VTIMEZONE
TZID:Europe/London
BEGIN:DAYLIGHT
TZOFFSETFROM:+0000
TZOFFSETTO:+0100
TZNAME:BST
DTSTART:20250330T010000
END:DAYLIGHT
BEGIN:STANDARD
TZOFFSETFROM:+0100
TZOFFSETTO:+0000
TZNAME:GMT
DTSTART:20251026T010000
END:STANDARD
BEGIN:DAYLIGHT
TZOFFSETFROM:+0000
TZOFFSETTO:+0100
TZNAME:BST
DTSTART:20260329T010000
END:DAYLIGHT
BEGIN:STANDARD
TZOFFSETFROM:+0100
TZOFFSETTO:+0000
TZNAME:GMT
DTSTART:20261025T010000
END:STANDARD
BEGIN:DAYLIGHT
TZOFFSETFROM:+0000
TZOFFSETTO:+0100
TZNAME:BST
DTSTART:20270328T010000
END:DAYLIGHT
BEGIN:STANDARD
TZOFFSETFROM:+0100
TZOFFSETTO:+0000
TZNAME:GMT
DTSTART:20271031T010000
END:STANDARD
END:VTIMEZONE
BEGIN:VEVENT
DTSTART;TZID=Europe/London:20260502T200000
DTEND;TZID=Europe/London:20260503T020000
DTSTAMP:20260423T193627
CREATED:20260423T024843Z
LAST-MODIFIED:20260423T025713Z
UID:1586-1777752000-1777773600@kinshowpromotions.co.uk
SUMMARY:Owanbe Night with Akinslavia Live Band in Manchester
DESCRIPTION:Experience an unforgettable night of live African music\, culture\, and premium entertainment at Durbar Night in Manchester. Hosted at Shanky’s Restaurant\, Bar & Lounge\, this event features the renowned Akinslavia Live Band delivering high-energy performances in a classy and vibrant atmosphere. \nTaking place on May 2nd at 8PM\, Durbar Night blends traditional African cultural expression with modern nightlife\, offering guests a unique experience filled with rhythm\, great food\, and premium drinks. \nWhether you’re a lover of live band music in Manchester or looking for the best African nightlife experience\, this event is designed to deliver an exceptional evening.
URL:https://kinshowpromotions.co.uk/event/owanbe-night-with-akinslavia-liveband-in-manchester/
LOCATION:Shanky’s Restaurant Bar & Lounge\, 476-478 Oldham Road\,\, Failsworth\, Manchester\, M35 OFH\, United Kingdom
CATEGORIES:2026 Events,May 2026 Events
ATTACH;FMTTYPE=image/jpeg:https://kinshowpromotions.co.uk/wp-content/uploads/2026/04/IMG_8165.jpeg
ORGANIZER;CN="Kinshow Promotions & Management":MAILTO:thebrandkinshow@gmail.com
END:VEVENT
END:VCALENDAR